BEGIN:VCALENDAR
VERSION:2.0
PRODID:-//ATIF - ECPv6.15.20//NONSGML v1.0//EN
CALSCALE:GREGORIAN
METHOD:PUBLISH
X-ORIGINAL-URL:https://www.atif.it
X-WR-CALDESC:Eventi per ATIF
REFRESH-INTERVAL;VALUE=DURATION:PT1H
X-Robots-Tag:noindex
X-PUBLISHED-TTL:PT1H
BEGIN:VTIMEZONE
TZID:Europe/Rome
BEGIN:DAYLIGHT
TZOFFSETFROM:+0100
TZOFFSETTO:+0200
TZNAME:CEST
DTSTART:20220327T010000
END:DAYLIGHT
BEGIN:STANDARD
TZOFFSETFROM:+0200
TZOFFSETTO:+0100
TZNAME:CET
DTSTART:20221030T010000
END:STANDARD
BEGIN:DAYLIGHT
TZOFFSETFROM:+0100
TZOFFSETTO:+0200
TZNAME:CEST
DTSTART:20230326T010000
END:DAYLIGHT
BEGIN:STANDARD
TZOFFSETFROM:+0200
TZOFFSETTO:+0100
TZNAME:CET
DTSTART:20231029T010000
END:STANDARD
BEGIN:DAYLIGHT
TZOFFSETFROM:+0100
TZOFFSETTO:+0200
TZNAME:CEST
DTSTART:20240331T010000
END:DAYLIGHT
BEGIN:STANDARD
TZOFFSETFROM:+0200
TZOFFSETTO:+0100
TZNAME:CET
DTSTART:20241027T010000
END:STANDARD
END:VTIMEZONE
BEGIN:VEVENT
DTSTART;TZID=Europe/Rome:20230503T090000
DTEND;TZID=Europe/Rome:20230503T170000
DTSTAMP:20260424T073408
CREATED:20230119T080630Z
LAST-MODIFIED:20230210T092223Z
UID:1198-1683104400-1683133200@www.atif.it
SUMMARY:IL PACCHETTO LASTRA E LA COMPRESSIONE DI STAMPA IN FLEXO
DESCRIPTION:Corso ATIF in Associazione\, per le iscrizioni https://forms.gle/RbV4ApxPQKY4AYQBA
URL:https://www.atif.it/event/il-pacchetto-lastra-e-la-compressione-di-stampa-in-flexo/
CATEGORIES:Formazione
END:VEVENT
END:VCALENDAR