BEGIN:VCALENDAR
VERSION:2.0
PRODID:-//ATIF - ECPv6.15.20//NONSGML v1.0//EN
CALSCALE:GREGORIAN
METHOD:PUBLISH
X-WR-CALNAME:ATIF
X-ORIGINAL-URL:https://www.atif.it
X-WR-CALDESC:Eventi per ATIF
REFRESH-INTERVAL;VALUE=DURATION:PT1H
X-Robots-Tag:noindex
X-PUBLISHED-TTL:PT1H
BEGIN:VTIMEZONE
TZID:Europe/Rome
BEGIN:DAYLIGHT
TZOFFSETFROM:+0100
TZOFFSETTO:+0200
TZNAME:CEST
DTSTART:20230326T010000
END:DAYLIGHT
BEGIN:STANDARD
TZOFFSETFROM:+0200
TZOFFSETTO:+0100
TZNAME:CET
DTSTART:20231029T010000
END:STANDARD
BEGIN:DAYLIGHT
TZOFFSETFROM:+0100
TZOFFSETTO:+0200
TZNAME:CEST
DTSTART:20240331T010000
END:DAYLIGHT
BEGIN:STANDARD
TZOFFSETFROM:+0200
TZOFFSETTO:+0100
TZNAME:CET
DTSTART:20241027T010000
END:STANDARD
BEGIN:DAYLIGHT
TZOFFSETFROM:+0100
TZOFFSETTO:+0200
TZNAME:CEST
DTSTART:20250330T010000
END:DAYLIGHT
BEGIN:STANDARD
TZOFFSETFROM:+0200
TZOFFSETTO:+0100
TZNAME:CET
DTSTART:20251026T010000
END:STANDARD
END:VTIMEZONE
BEGIN:VEVENT
DTSTART;TZID=Europe/Rome:20240919T143000
DTEND;TZID=Europe/Rome:20240919T170000
DTSTAMP:20260423T082540
CREATED:20240730T081243Z
LAST-MODIFIED:20240830T123327Z
UID:3269-1726756200-1726765200@www.atif.it
SUMMARY:Il packaging stampato in flexo
DESCRIPTION:Bari\, 19 settembre 2024 ore 14:30
URL:https://www.atif.it/event/il-packaging-stampato-in-flexo/
LOCATION:BARI\, Via Amendola 172/5\, Bari\, Italia
CATEGORIES:Altri Appuntamenti,Formazione
ATTACH;FMTTYPE=image/jpeg:https://www.atif.it/wp-content/uploads/2024/07/atif_web.jpg
END:VEVENT
END:VCALENDAR